BEGIN:VCALENDAR
VERSION:2.0
PRODID:-//SFCARDIO - ECPv6.15.20//NONSGML v1.0//EN
CALSCALE:GREGORIAN
METHOD:PUBLISH
X-ORIGINAL-URL:https://www.sfcardio.fr
X-WR-CALDESC:Évènements pour SFCARDIO
REFRESH-INTERVAL;VALUE=DURATION:PT1H
X-Robots-Tag:noindex
X-PUBLISHED-TTL:PT1H
BEGIN:VTIMEZONE
TZID:UTC
BEGIN:STANDARD
TZOFFSETFROM:+0000
TZOFFSETTO:+0000
TZNAME:UTC
DTSTART:20250101T000000
END:STANDARD
END:VTIMEZONE
BEGIN:VEVENT
DTSTART;VALUE=DATE:20260610
DTEND;VALUE=DATE:20260613
DTSTAMP:20260424T164621
CREATED:20260113T143646Z
LAST-MODIFIED:20260115T105445Z
UID:10000077-1781049600-1781308799@www.sfcardio.fr
SUMMARY:Journées de Rythmologie 2026
DESCRIPTION:Journées de Rythmologie : Édition 2026Du 10 au 12 juin 2026\, rendez-vous sur les 27es Journées de Rythmologie\, le congrès du Groupe Rythmologie – Stimulation cardiaque de la SFC qui se tiendra à la Cité des Congrès de Nantes. \nProgrammeInscriptionDates clés du congrès\n\n	\n	\n        \n    \n    \n        \n        \n        \n        \n        \n    \n\n\n\n	\n	\n	\n		\n			Journées de Rythmologie – Appel à communicationEn savoir plusJournées de Rythmologie – InscriptionsDémarre le : 01/01/26En savoir plus		\n	\n	\n	\n			\n\n\n	\n		\n\nBourse 2026Lors du congrès\, nous aurons le plaisir d’accueillir le lauréat de la bourse 2026 du Groupe Rythmologie – Stimulation cardiaque. \nBourse « Recherche et Mobilité » - 40 000 €D'un montant de 40 000 €\, cette bourse du Groupe Rythmologie - Stimulation cardiaque vise à financer un séjour d'études d'au moins un an à l'étranger dans un service réputé en rythmologie/stimulation cardiaque. Elle sera remise lors de la prochaine édition des Journées de Rythmologie. \nEn savoir plus
URL:https://www.sfcardio.fr/congres-detail/journees-de-rythmologie-2026/
LOCATION:Cité des Congrès de Nantes\, 5 Rue de Valmy\, Nantes\, 44000
CATEGORIES:Congrès SFC
ATTACH;FMTTYPE=image/jpeg:https://www.sfcardio.fr/wp-content/uploads/2026/01/Journees-Rythmo-2026-Affiche.jpg
ORGANIZER;CN="Overcome - Journ%C3%A9es de Rythmologie":MAILTO:rythmo@overcome.fr
END:VEVENT
END:VCALENDAR